BEGIN:VCALENDAR
VERSION:2.0
PRODID:-//PRODUCTIONS OVER THE RAINBOW - ECPv6.15.20//NONSGML v1.0//EN
CALSCALE:GREGORIAN
METHOD:PUBLISH
X-ORIGINAL-URL:https://www.potr.org
X-WR-CALDESC:Events for PRODUCTIONS OVER THE RAINBOW
REFRESH-INTERVAL;VALUE=DURATION:PT1H
X-Robots-Tag:noindex
X-PUBLISHED-TTL:PT1H
BEGIN:VTIMEZONE
TZID:UTC
BEGIN:STANDARD
TZOFFSETFROM:+0000
TZOFFSETTO:+0000
TZNAME:UTC
DTSTART:20200101T000000
END:STANDARD
END:VTIMEZONE
BEGIN:VEVENT
DTSTART;TZID=UTC:20210629T100000
DTEND;TZID=UTC:20210629T140000
DTSTAMP:20260423T093539
CREATED:20210605T234954Z
LAST-MODIFIED:20210605T235207Z
UID:2764-1624960800-1624975200@www.potr.org
SUMMARY:First Day of the Triple Threat Program - ages 5-16
DESCRIPTION:Auditions will take place during the first week of classes.
URL:https://www.potr.org/index.php/event/first-day-of-the-triple-threat-program-ages-5-16/
LOCATION:Holbrook\, NY
CATEGORIES:Audition,Workshop
END:VEVENT
BEGIN:VEVENT
DTSTART;TZID=UTC:20210629T180000
DTEND;TZID=UTC:20210629T210000
DTSTAMP:20260423T093539
CREATED:20210605T234817Z
LAST-MODIFIED:20210605T235238Z
UID:2761-1624989600-1625000400@www.potr.org
SUMMARY:Pippin Auditions - Ages 13-21
DESCRIPTION:Please come prepared with 16 bars of a song from the show.  Accompanist provided.  Please be prepared to dance.
URL:https://www.potr.org/index.php/event/pippin-auditions-ages-13-21/
LOCATION:Holbrook\, NY
CATEGORIES:Audition,Workshop
END:VEVENT
BEGIN:VEVENT
DTSTART;TZID=UTC:20210804T190000
DTEND;TZID=UTC:20210804T210000
DTSTAMP:20260423T093539
CREATED:20210605T235420Z
LAST-MODIFIED:20210723T031909Z
UID:2772-1628103600-1628110800@www.potr.org
SUMMARY:FROZEN JR.
DESCRIPTION:https://ci.ovationtix.com/35344/production/1070947
URL:https://www.potr.org/index.php/event/frozen-jr/
LOCATION:Oakdale\, NY
CATEGORIES:Performance
END:VEVENT
BEGIN:VEVENT
DTSTART;TZID=UTC:20210805T190000
DTEND;TZID=UTC:20210805T210000
DTSTAMP:20260423T093539
CREATED:20210605T235445Z
LAST-MODIFIED:20210723T031838Z
UID:2774-1628190000-1628197200@www.potr.org
SUMMARY:FROZEN JR.
DESCRIPTION:https://ci.ovationtix.com/35344/production/1070947
URL:https://www.potr.org/index.php/event/frozen-jr-2/
LOCATION:Oakdale\, NY
CATEGORIES:Performance
END:VEVENT
BEGIN:VEVENT
DTSTART;TZID=UTC:20210811T193000
DTEND;TZID=UTC:20210811T213000
DTSTAMP:20260423T093539
CREATED:20210605T235108Z
LAST-MODIFIED:20210723T154814Z
UID:2766-1628710200-1628717400@www.potr.org
SUMMARY:Pippin PG-13
DESCRIPTION:https://ci.ovationtix.com/35344/production/1072159
URL:https://www.potr.org/index.php/event/pippin/
LOCATION:Oakdale\, NY
CATEGORIES:Performance
END:VEVENT
BEGIN:VEVENT
DTSTART;TZID=UTC:20210812T193000
DTEND;TZID=UTC:20210812T213000
DTSTAMP:20260423T093539
CREATED:20210605T235340Z
LAST-MODIFIED:20210723T154844Z
UID:2770-1628796600-1628803800@www.potr.org
SUMMARY:PIPPIN PG-13
DESCRIPTION:https://ci.ovationtix.com/35344/production/1072159
URL:https://www.potr.org/index.php/event/pippin-2/
LOCATION:Oakdale\, NY
CATEGORIES:Performance
END:VEVENT
BEGIN:VEVENT
DTSTART;TZID=UTC:20211105T193000
DTEND;TZID=UTC:20211105T193000
DTSTAMP:20260423T093539
CREATED:20211019T024315Z
LAST-MODIFIED:20211019T024602Z
UID:2818-1636140600-1636140600@www.potr.org
SUMMARY:Disney's Newsies Friday
DESCRIPTION:Buy your Friday tickets here:\nhttps://disneys-newsies-friday-tickets.eventbrite.com
URL:https://www.potr.org/index.php/event/disneys-newsies-friday/
LOCATION:Sagamore Middle School\, 57 Division Street\, Holtsville\, NY\, 11742\, United States
CATEGORIES:Performance
END:VEVENT
BEGIN:VEVENT
DTSTART;TZID=UTC:20211106T193000
DTEND;TZID=UTC:20211106T193000
DTSTAMP:20260423T093539
CREATED:20211019T024300Z
LAST-MODIFIED:20211019T024815Z
UID:2820-1636227000-1636227000@www.potr.org
SUMMARY:Disney's Newsies Saturday
DESCRIPTION:Buy your Saturday Tickets Here:\nhttps://disneys-newsies-saturday-tickets.eventbrite.com
URL:https://www.potr.org/index.php/event/disneys-newsies-saturday/
LOCATION:Sagamore Middle School\, 57 Division Street\, Holtsville\, NY\, 11742\, United States
CATEGORIES:Performance
END:VEVENT
BEGIN:VEVENT
DTSTART;TZID=UTC:20220610T190000
DTEND;TZID=UTC:20220610T213000
DTSTAMP:20260423T093539
CREATED:20220423T172727Z
LAST-MODIFIED:20220423T172751Z
UID:2915-1654887600-1654896600@www.potr.org
SUMMARY:JEKYLL & HYDE RATED PG-13
DESCRIPTION:
URL:https://www.potr.org/index.php/event/2915/
LOCATION:Stony Brook School – Carson Auditorium\, 1 Chapman Parkway\, Stony Brook\, NY\, 11790\, United States
CATEGORIES:Performance
END:VEVENT
BEGIN:VEVENT
DTSTART;TZID=UTC:20220611T190000
DTEND;TZID=UTC:20220611T213000
DTSTAMP:20260423T093539
CREATED:20220423T173110Z
LAST-MODIFIED:20220423T173251Z
UID:2921-1654974000-1654983000@www.potr.org
SUMMARY:JEKYLL & HYDE RATED PG-13
DESCRIPTION:
URL:https://www.potr.org/index.php/event/jekyll-hyde-rated-pg-13/
LOCATION:Stony Brook School – Carson Auditorium\, 1 Chapman Parkway\, Stony Brook\, NY\, 11790\, United States
CATEGORIES:Performance
END:VEVENT
BEGIN:VEVENT
DTSTART;TZID=UTC:20220621T173000
DTEND;TZID=UTC:20220621T213000
DTSTAMP:20260423T093539
CREATED:20220423T173959Z
LAST-MODIFIED:20220423T174223Z
UID:2931-1655832600-1655847000@www.potr.org
SUMMARY:MARY POPPINS Teen/College Auditions
DESCRIPTION:
URL:https://www.potr.org/index.php/event/mary-poppins-teen-college-3/
LOCATION:St. John’s Evangelical Lutheran Church\, 1675 Coates Avenue\, Holbrook\, 11741\, United States
CATEGORIES:Audition
END:VEVENT
BEGIN:VEVENT
DTSTART;TZID=UTC:20220628T100000
DTEND;TZID=UTC:20220628T140000
DTSTAMP:20260423T093539
CREATED:20220423T174537Z
LAST-MODIFIED:20220423T174624Z
UID:2940-1656410400-1656424800@www.potr.org
SUMMARY:MARY POPPINS JR. Triple Threat Workshop Begins
DESCRIPTION:
URL:https://www.potr.org/index.php/event/mary-poppins-jr-triple-threat-workshop-begins/
LOCATION:St. John’s Evangelical Lutheran Church\, 1675 Coates Avenue\, Holbrook\, 11741\, United States
CATEGORIES:Workshop
END:VEVENT
BEGIN:VEVENT
DTSTART;TZID=UTC:20220628T173000
DTEND;TZID=UTC:20220628T213000
DTSTAMP:20260423T093539
CREATED:20220423T174314Z
LAST-MODIFIED:20220423T174433Z
UID:2936-1656437400-1656451800@www.potr.org
SUMMARY:MARY POPPINS Teen/College Workshop Begins
DESCRIPTION:
URL:https://www.potr.org/index.php/event/mary-poppins-teen-college-callbacks/
LOCATION:St. John’s Evangelical Lutheran Church\, 1675 Coates Avenue\, Holbrook\, 11741\, United States
CATEGORIES:Workshop
END:VEVENT
BEGIN:VEVENT
DTSTART;TZID=UTC:20220805T190000
DTEND;TZID=UTC:20220805T210000
DTSTAMP:20260423T093539
CREATED:20220423T173658Z
LAST-MODIFIED:20220728T220722Z
UID:2923-1659726000-1659733200@www.potr.org
SUMMARY:Disney MARY POPPINS JR. Performance
DESCRIPTION:
URL:https://www.potr.org/index.php/event/mary-poppins-jr/
LOCATION:Sachem High School East\, 177 Granny Road\, Farmingville\, NY\, 11738\, United States
CATEGORIES:Performance
END:VEVENT
BEGIN:VEVENT
DTSTART;TZID=UTC:20220806T190000
DTEND;TZID=UTC:20220806T210000
DTSTAMP:20260423T093539
CREATED:20220423T173742Z
LAST-MODIFIED:20220728T220819Z
UID:2925-1659812400-1659819600@www.potr.org
SUMMARY:Disney MARY POPPINS JR. Performance
DESCRIPTION:
URL:https://www.potr.org/index.php/event/mary-poppins-jr-2/
LOCATION:Sachem High School East\, 177 Granny Road\, Farmingville\, NY\, 11738\, United States
CATEGORIES:Performance
END:VEVENT
BEGIN:VEVENT
DTSTART;TZID=UTC:20220811T190000
DTEND;TZID=UTC:20220811T213000
DTSTAMP:20260423T093539
CREATED:20220423T173843Z
LAST-MODIFIED:20220728T220907Z
UID:2927-1660244400-1660253400@www.potr.org
SUMMARY:Disney MARY POPPINS Performance
DESCRIPTION:
URL:https://www.potr.org/index.php/event/mary-poppins-teen-college/
LOCATION:Sachem High School East\, 177 Granny Road\, Farmingville\, NY\, 11738\, United States
CATEGORIES:Performance
END:VEVENT
BEGIN:VEVENT
DTSTART;TZID=UTC:20220812T190000
DTEND;TZID=UTC:20220812T213000
DTSTAMP:20260423T093539
CREATED:20220423T173922Z
LAST-MODIFIED:20220728T220939Z
UID:2929-1660330800-1660339800@www.potr.org
SUMMARY:Disney MARY POPPINS Performance
DESCRIPTION:
URL:https://www.potr.org/index.php/event/mary-poppins-teen-college-2/
LOCATION:Sachem High School East\, 177 Granny Road\, Farmingville\, NY\, 11738\, United States
CATEGORIES:Performance
END:VEVENT
BEGIN:VEVENT
DTSTART;TZID=UTC:20220813T190000
DTEND;TZID=UTC:20220813T213000
DTSTAMP:20260423T093539
CREATED:20220717T234044Z
LAST-MODIFIED:20220728T221015Z
UID:2962-1660417200-1660426200@www.potr.org
SUMMARY:Disney MARY POPPINS Performance
DESCRIPTION:
URL:https://www.potr.org/index.php/event/mary-poppins/
LOCATION:Sachem High School East\, 177 Granny Road\, Farmingville\, NY\, 11738\, United States
CATEGORIES:Performance
END:VEVENT
BEGIN:VEVENT
DTSTART;TZID=UTC:20220914T173000
DTEND;TZID=UTC:20220914T203000
DTSTAMP:20260423T093539
CREATED:20220717T234326Z
LAST-MODIFIED:20220717T234326Z
UID:2968-1663176600-1663187400@www.potr.org
SUMMARY:Fall 2022 Auditions
DESCRIPTION:
URL:https://www.potr.org/index.php/event/fall-2022-auditions/
LOCATION:St. John’s Evangelical Lutheran Church\, 1675 Coates Avenue\, Holbrook\, 11741\, United States
CATEGORIES:Audition
END:VEVENT
BEGIN:VEVENT
DTSTART;TZID=UTC:20221104T190000
DTEND;TZID=UTC:20221104T210000
DTSTAMP:20260423T093539
CREATED:20220717T234422Z
LAST-MODIFIED:20221029T041127Z
UID:2970-1667588400-1667595600@www.potr.org
SUMMARY:The Wizard of Oz
DESCRIPTION:https://www.eventbrite.com/e/the-wizard-of-oz-friday-show-tickets-444906696907 \n 
URL:https://www.potr.org/index.php/event/fall-2022-performance/
LOCATION:Sachem North High School Auditorium\, 212 Smith Road\, Ronkonkoma\, NY\, 11779\, United States
CATEGORIES:Performance
END:VEVENT
BEGIN:VEVENT
DTSTART;TZID=UTC:20221105T190000
DTEND;TZID=UTC:20221105T210000
DTSTAMP:20260423T093539
CREATED:20220717T234646Z
LAST-MODIFIED:20221029T041154Z
UID:2972-1667674800-1667682000@www.potr.org
SUMMARY:The Wizard of Oz
DESCRIPTION:https://www.eventbrite.com/e/the-wizard-of-oz-saturday-show-tickets-445643881847
URL:https://www.potr.org/index.php/event/fall-2022-performance-2/
LOCATION:Sachem North High School Auditorium\, 212 Smith Road\, Ronkonkoma\, NY\, 11779\, United States
CATEGORIES:Performance
END:VEVENT
BEGIN:VEVENT
DTSTART;TZID=UTC:20221130T180000
DTEND;TZID=UTC:20221130T180000
DTSTAMP:20260423T093539
CREATED:20221030T233113Z
LAST-MODIFIED:20221030T233113Z
UID:3112-1669831200-1669831200@www.potr.org
SUMMARY:Winter MainStage Auditions for Godspell
DESCRIPTION:
URL:https://www.potr.org/index.php/event/winter-mainstage-auditions-for-godspell/
LOCATION:St. John’s Evangelical Lutheran Church\, 1675 Coates Avenue\, Holbrook\, 11741\, United States
END:VEVENT
BEGIN:VEVENT
DTSTART;TZID=UTC:20230120T190000
DTEND;TZID=UTC:20230120T190000
DTSTAMP:20260423T093539
CREATED:20221030T233228Z
LAST-MODIFIED:20230111T205838Z
UID:3114-1674241200-1674241200@www.potr.org
SUMMARY:Winter MainStage Production of Godspell
DESCRIPTION:Tickets on sale now!! \nhttps://PotrGodspellFriday.eventbrite.com \n 
URL:https://www.potr.org/index.php/event/winter-mainstage-production-of-godspell/
LOCATION:Seneca Middle School Auditorium\, 850 Main Street\, Holbrook\, NY\, 11741\, United States
END:VEVENT
BEGIN:VEVENT
DTSTART;TZID=UTC:20230121T190000
DTEND;TZID=UTC:20230121T190000
DTSTAMP:20260423T093539
CREATED:20221030T233319Z
LAST-MODIFIED:20230111T210027Z
UID:3116-1674327600-1674327600@www.potr.org
SUMMARY:Winter MainStage Production of Godspell
DESCRIPTION:Ticket on sale now!! \nhttps://PotrGodspellSaturday.eventbrite.com
URL:https://www.potr.org/index.php/event/winter-mainstage-production-of-godspell-2/
LOCATION:Seneca Middle School Auditorium\, 850 Main Street\, Holbrook\, NY\, 11741\, United States
END:VEVENT
BEGIN:VEVENT
DTSTART;TZID=UTC:20230419T173000
DTEND;TZID=UTC:20230419T203000
DTSTAMP:20260423T093539
CREATED:20220717T234801Z
LAST-MODIFIED:20221111T194004Z
UID:2974-1681925400-1681936200@www.potr.org
SUMMARY:Spring 2023 "Chicago: Teen Edition" Auditions
DESCRIPTION:
URL:https://www.potr.org/index.php/event/spring-2023-auditions/
LOCATION:St. John’s Evangelical Lutheran Church\, 1675 Coates Avenue\, Holbrook\, 11741\, United States
CATEGORIES:Audition
END:VEVENT
BEGIN:VEVENT
DTSTART;TZID=UTC:20230609T190000
DTEND;TZID=UTC:20230609T210000
DTSTAMP:20260423T093539
CREATED:20220717T235029Z
LAST-MODIFIED:20221111T193951Z
UID:2977-1686337200-1686344400@www.potr.org
SUMMARY:Spring 2023 "Chicago: Teen Edition" Performance
DESCRIPTION:
URL:https://www.potr.org/index.php/event/spring-2023-performance/
LOCATION:Stony Brook School – Carson Auditorium\, 1 Chapman Parkway\, Stony Brook\, NY\, 11790\, United States
CATEGORIES:Performance
END:VEVENT
BEGIN:VEVENT
DTSTART;TZID=UTC:20230610T140000
DTEND;TZID=UTC:20230610T163000
DTSTAMP:20260423T093539
CREATED:20230523T124350Z
LAST-MODIFIED:20230523T130329Z
UID:3226-1686405600-1686414600@www.potr.org
SUMMARY:Spring 2023 "Chicago: Teen Edition" Performance
DESCRIPTION:
URL:https://www.potr.org/index.php/event/spring-2023-chicago-teen-edition/
LOCATION:Stony Brook School – Carson Auditorium\, 1 Chapman Parkway\, Stony Brook\, NY\, 11790\, United States
CATEGORIES:Performance
END:VEVENT
BEGIN:VEVENT
DTSTART;TZID=UTC:20230610T190000
DTEND;TZID=UTC:20230610T210000
DTSTAMP:20260423T093539
CREATED:20220717T235110Z
LAST-MODIFIED:20221111T193938Z
UID:2979-1686423600-1686430800@www.potr.org
SUMMARY:Spring 2023 "Chicago: Teen Edition" Performance
DESCRIPTION:
URL:https://www.potr.org/index.php/event/spring-2023-performance-2/
LOCATION:Stony Brook School – Carson Auditorium\, 1 Chapman Parkway\, Stony Brook\, NY\, 11790\, United States
CATEGORIES:Performance
END:VEVENT
BEGIN:VEVENT
DTSTART;TZID=UTC:20230621T173000
DTEND;TZID=UTC:20230621T203000
DTSTAMP:20260423T093539
CREATED:20220717T235413Z
LAST-MODIFIED:20221111T194031Z
UID:2981-1687368600-1687379400@www.potr.org
SUMMARY:Summer 2023 Teen/College Auditions
DESCRIPTION:
URL:https://www.potr.org/index.php/event/summer-auditions/
LOCATION:St. John’s Evangelical Lutheran Church\, 1675 Coates Avenue\, Holbrook\, 11741\, United States
CATEGORIES:Audition
END:VEVENT
BEGIN:VEVENT
DTSTART;TZID=UTC:20230627T100000
DTEND;TZID=UTC:20230627T140000
DTSTAMP:20260423T093539
CREATED:20220718T000509Z
LAST-MODIFIED:20220718T000509Z
UID:2999-1687860000-1687874400@www.potr.org
SUMMARY:Summer 2023 Triple Threat XVIII First Day
DESCRIPTION:
URL:https://www.potr.org/index.php/event/summer-2023-triple-threat-xviii-first-day/
LOCATION:St. John’s Evangelical Lutheran Church\, 1675 Coates Avenue\, Holbrook\, 11741\, United States
CATEGORIES:Workshop
END:VEVENT
END:VCALENDAR