BEGIN:VCALENDAR
VERSION:2.0
PRODID:-//PRODUCTIONS OVER THE RAINBOW - ECPv6.15.20//NONSGML v1.0//EN
CALSCALE:GREGORIAN
METHOD:PUBLISH
X-WR-CALNAME:PRODUCTIONS OVER THE RAINBOW
X-ORIGINAL-URL:https://www.potr.org
X-WR-CALDESC:Events for PRODUCTIONS OVER THE RAINBOW
REFRESH-INTERVAL;VALUE=DURATION:PT1H
X-Robots-Tag:noindex
X-PUBLISHED-TTL:PT1H
BEGIN:VTIMEZONE
TZID:UTC
BEGIN:STANDARD
TZOFFSETFROM:+0000
TZOFFSETTO:+0000
TZNAME:UTC
DTSTART:20230101T000000
END:STANDARD
END:VTIMEZONE
BEGIN:VEVENT
DTSTART;TZID=UTC:20260421T173000
DTEND;TZID=UTC:20260421T210000
DTSTAMP:20260422T095121
CREATED:20250729T122951Z
LAST-MODIFIED:20260309T014023Z
UID:3750-1776792600-1776805200@www.potr.org
SUMMARY:SPRING 2026 TEEN/COLLEGE Auditions: A Chorus Line: Teen Edition
DESCRIPTION:
URL:https://www.potr.org/index.php/event/spring-2026-teen-college-auditions/
LOCATION:Holy Cross Lutheran Church\, 307 Hawkins Avenue\, Lake Ronkonkoma\, NY\, 11779\, United States
CATEGORIES:Audition
END:VEVENT
BEGIN:VEVENT
DTSTART;TZID=UTC:20260117T190000
DTEND;TZID=UTC:20260117T210000
DTSTAMP:20260422T095121
CREATED:20250729T122543Z
LAST-MODIFIED:20260115T034111Z
UID:3748-1768676400-1768683600@www.potr.org
SUMMARY:WINTER 2025/2026 MAINSTAGE Performance - Joseph and the Amazing Technicolor Dreamcoat
DESCRIPTION:Venue: Sagamore Middle School
URL:https://www.potr.org/index.php/event/winter-2025-2026-mainstage-performance/
LOCATION:Sagamore Middle School\, 57 Division Street\, Holtsville\, NY\, 11742\, United States
CATEGORIES:Performance
END:VEVENT
BEGIN:VEVENT
DTSTART;TZID=UTC:20260116T190000
DTEND;TZID=UTC:20260116T210000
DTSTAMP:20260422T095121
CREATED:20250729T122117Z
LAST-MODIFIED:20260115T033830Z
UID:3741-1768590000-1768597200@www.potr.org
SUMMARY:WINTER 2025/2026 MAINSTAGE Performance - Joseph and the Amazing Technicolor Dreamcoat
DESCRIPTION:Venue: Sagamore Middle School Auditorium \n 
URL:https://www.potr.org/index.php/event/winter-2025-2026-mainstage-production/
LOCATION:Sagamore Middle School\, 57 Division Street\, Holtsville\, NY\, 11742\, United States
CATEGORIES:Performance
END:VEVENT
BEGIN:VEVENT
DTSTART;TZID=UTC:20251119T080000
DTEND;TZID=UTC:20251119T170000
DTSTAMP:20260422T095121
CREATED:20250729T121743Z
LAST-MODIFIED:20250729T121837Z
UID:3738-1763539200-1763571600@www.potr.org
SUMMARY:WINTER 2025/2026 MAINSTAGE CALLBACKS
DESCRIPTION:show: to be announced
URL:https://www.potr.org/index.php/event/winter-2025-2026-mainstage-callbacks/
LOCATION:St. John’s Evangelical Lutheran Church\, 1675 Coates Avenue\, Holbrook\, 11741\, United States
CATEGORIES:Audition
END:VEVENT
BEGIN:VEVENT
DTSTART;TZID=UTC:20251117T173000
DTEND;TZID=UTC:20251117T210000
DTSTAMP:20260422T095121
CREATED:20250729T121547Z
LAST-MODIFIED:20250729T121547Z
UID:3736-1763400600-1763413200@www.potr.org
SUMMARY:WINTER 2025/2026 MAINSTAGE AUDITIONS
DESCRIPTION:show: to be announced
URL:https://www.potr.org/index.php/event/winter-2025-2026-mainstage-auditions/
LOCATION:St. John’s Evangelical Lutheran Church\, 1675 Coates Avenue\, Holbrook\, 11741\, United States
CATEGORIES:Audition
END:VEVENT
BEGIN:VEVENT
DTSTART;TZID=UTC:20251108T190000
DTEND;TZID=UTC:20251108T210000
DTSTAMP:20260422T095121
CREATED:20250729T033247Z
LAST-MODIFIED:20250729T131318Z
UID:3731-1762628400-1762635600@www.potr.org
SUMMARY:FALL 2025 ANNIE Performance
DESCRIPTION:Venue: To be confirmed
URL:https://www.potr.org/index.php/event/annie-performance-2/
LOCATION:NY
CATEGORIES:Performance
END:VEVENT
BEGIN:VEVENT
DTSTART;TZID=UTC:20251107T190000
DTEND;TZID=UTC:20251107T210000
DTSTAMP:20260422T095121
CREATED:20250729T033137Z
LAST-MODIFIED:20250729T131355Z
UID:3729-1762542000-1762549200@www.potr.org
SUMMARY:FALL 2025 ANNIE Performance
DESCRIPTION:Venue: To be confirmed
URL:https://www.potr.org/index.php/event/annie-performance/
LOCATION:NY
CATEGORIES:Performance
END:VEVENT
BEGIN:VEVENT
DTSTART;TZID=UTC:20250917T173000
DTEND;TZID=UTC:20250917T210000
DTSTAMP:20260422T095121
CREATED:20250729T120905Z
LAST-MODIFIED:20250729T122442Z
UID:3734-1758130200-1758142800@www.potr.org
SUMMARY:FALL 2025 KIDS/TEEN/COLLEGE Annie Callbacks
DESCRIPTION:
URL:https://www.potr.org/index.php/event/fall-2025-annie-callbacks/
LOCATION:St. John’s Evangelical Lutheran Church\, 1675 Coates Avenue\, Holbrook\, 11741\, United States
CATEGORIES:Audition
END:VEVENT
BEGIN:VEVENT
DTSTART;TZID=UTC:20250915T173000
DTEND;TZID=UTC:20250915T210000
DTSTAMP:20260422T095121
CREATED:20250729T032509Z
LAST-MODIFIED:20250729T132704Z
UID:3727-1757957400-1757970000@www.potr.org
SUMMARY:FALL 2025 KIDS/TEEN/COLLEGE Annie Auditions
DESCRIPTION:
URL:https://www.potr.org/index.php/event/fall-2025-annie-audition/
LOCATION:St. John’s Evangelical Lutheran Church\, 1675 Coates Avenue\, Holbrook\, 11741\, United States
CATEGORIES:Audition
END:VEVENT
BEGIN:VEVENT
DTSTART;TZID=UTC:20250809T190000
DTEND;TZID=UTC:20250809T210000
DTSTAMP:20260422T095121
CREATED:20240721T170155Z
LAST-MODIFIED:20250729T031430Z
UID:3609-1754766000-1754773200@www.potr.org
SUMMARY:SUMMER 2025 TEEN/COLLEGE Jersey Boys (Rated PG-13)
DESCRIPTION:Venue: Sachem North Auditorium
URL:https://www.potr.org/index.php/event/summer-teen-college-performance-4/
LOCATION:Sachem North High School Auditorium\, 212 Smith Road\, Ronkonkoma\, NY\, 11779\, United States
CATEGORIES:Performance
END:VEVENT
BEGIN:VEVENT
DTSTART;TZID=UTC:20250809T130000
DTEND;TZID=UTC:20250809T153000
DTSTAMP:20260422T095121
CREATED:20240721T170046Z
LAST-MODIFIED:20250729T031514Z
UID:3607-1754744400-1754753400@www.potr.org
SUMMARY:SUMMER 2025 TEEN/COLLEGE Jersey Boys (Rated PG-13)
DESCRIPTION:VENUE: Sachem North Auditorium
URL:https://www.potr.org/index.php/event/summer-2025-teen-college-performance/
LOCATION:Sachem North High School Auditorium\, 212 Smith Road\, Ronkonkoma\, NY\, 11779\, United States
CATEGORIES:Performance
END:VEVENT
BEGIN:VEVENT
DTSTART;TZID=UTC:20250808T190000
DTEND;TZID=UTC:20250808T210000
DTSTAMP:20260422T095121
CREATED:20240721T165655Z
LAST-MODIFIED:20250729T031531Z
UID:3605-1754679600-1754686800@www.potr.org
SUMMARY:SUMMER 2025 TEEN/COLLEGE Jersey Boys (Rated PG-13)
DESCRIPTION:VENUE: Sachem North Auditorium
URL:https://www.potr.org/index.php/event/summer-2025-teen-college-performance-2/
LOCATION:Sachem North High School Auditorium\, 212 Smith Road\, Ronkonkoma\, NY\, 11779\, United States
CATEGORIES:Performance
END:VEVENT
BEGIN:VEVENT
DTSTART;TZID=UTC:20250802T190000
DTEND;TZID=UTC:20250802T210000
DTSTAMP:20260422T095121
CREATED:20240721T170517Z
LAST-MODIFIED:20250729T025051Z
UID:3613-1754161200-1754168400@www.potr.org
SUMMARY:SUMMER 2025 TRIPLE THREAT XX SHREK Junior Performance
DESCRIPTION:VENUE: Sachem North Auditorium
URL:https://www.potr.org/index.php/event/summer-2025-triple-threat-xx-performance/
LOCATION:Sachem North High School Auditorium\, 212 Smith Road\, Ronkonkoma\, NY\, 11779\, United States
CATEGORIES:Performance
END:VEVENT
BEGIN:VEVENT
DTSTART;TZID=UTC:20250801T190000
DTEND;TZID=UTC:20250801T210000
DTSTAMP:20260422T095121
CREATED:20240721T170403Z
LAST-MODIFIED:20250729T024138Z
UID:3611-1754074800-1754082000@www.potr.org
SUMMARY:SUMMER 2025 TRIPLE THREAT XX SHREK Junior Performance
DESCRIPTION:VENUE: Sachem North Auditorium
URL:https://www.potr.org/index.php/event/summer-2024-triple-threat-xx-performance/
LOCATION:Sachem North High School Auditorium\, 212 Smith Road\, Ronkonkoma\, NY\, 11779\, United States
CATEGORIES:Performance
END:VEVENT
BEGIN:VEVENT
DTSTART;TZID=UTC:20250701T100000
DTEND;TZID=UTC:20250701T140000
DTSTAMP:20260422T095121
CREATED:20240721T173634Z
LAST-MODIFIED:20240721T175312Z
UID:3616-1751364000-1751378400@www.potr.org
SUMMARY:SUMMER 2025 TRIPLE THREAT XX FIRST DAY
DESCRIPTION:
URL:https://www.potr.org/index.php/event/summer-2025-triple-threat-xx-first-day/
LOCATION:St. John’s Evangelical Lutheran Church\, 1675 Coates Avenue\, Holbrook\, 11741\, United States
CATEGORIES:Workshop
END:VEVENT
BEGIN:VEVENT
DTSTART;TZID=UTC:20250618T173000
DTEND;TZID=UTC:20250618T210000
DTSTAMP:20260422T095121
CREATED:20240721T165348Z
LAST-MODIFIED:20240810T192637Z
UID:3601-1750267800-1750280400@www.potr.org
SUMMARY:SUMMER 2025 TEEN/COLLEGE CALLBACKS
DESCRIPTION:
URL:https://www.potr.org/index.php/event/summer-2025-teen-college-callbacks/
LOCATION:St. John’s Evangelical Lutheran Church\, 1675 Coates Avenue\, Holbrook\, 11741\, United States
CATEGORIES:Audition
END:VEVENT
BEGIN:VEVENT
DTSTART;TZID=UTC:20250616T173000
DTEND;TZID=UTC:20250616T210000
DTSTAMP:20260422T095121
CREATED:20240721T165136Z
LAST-MODIFIED:20240810T192520Z
UID:3599-1750095000-1750107600@www.potr.org
SUMMARY:SUMMER 2025 TEEN/COLLEGE Auditions
DESCRIPTION:
URL:https://www.potr.org/index.php/event/summer-2025-teen-college-auditions/
LOCATION:St. John’s Evangelical Lutheran Church\, 1675 Coates Avenue\, Holbrook\, 11741\, United States
CATEGORIES:Audition
END:VEVENT
BEGIN:VEVENT
DTSTART;TZID=UTC:20250614T190000
DTEND;TZID=UTC:20250614T210000
DTSTAMP:20260422T095121
CREATED:20240721T164928Z
LAST-MODIFIED:20240810T191749Z
UID:3597-1749927600-1749934800@www.potr.org
SUMMARY:SPRING 2025 MEAN GIRLS High School Version Performance
DESCRIPTION:
URL:https://www.potr.org/index.php/event/spring-2025-teen-college-performance-2/
LOCATION:Stony Brook School – Carson Auditorium\, 1 Chapman Parkway\, Stony Brook\, NY\, 11790\, United States
CATEGORIES:Performance
END:VEVENT
BEGIN:VEVENT
DTSTART;TZID=UTC:20250613T190000
DTEND;TZID=UTC:20250613T210000
DTSTAMP:20260422T095121
CREATED:20240721T164816Z
LAST-MODIFIED:20240810T191810Z
UID:3594-1749841200-1749848400@www.potr.org
SUMMARY:SPRING 2025 MEAN GIRLS High School Version Performance
DESCRIPTION:
URL:https://www.potr.org/index.php/event/spring-2025-teen-college-performance/
LOCATION:Stony Brook School – Carson Auditorium\, 1 Chapman Parkway\, Stony Brook\, NY\, 11790\, United States
CATEGORIES:Performance
END:VEVENT
BEGIN:VEVENT
DTSTART;TZID=UTC:20250423T173000
DTEND;TZID=UTC:20250423T210000
DTSTAMP:20260422T095121
CREATED:20240721T164440Z
LAST-MODIFIED:20240810T192503Z
UID:3592-1745429400-1745442000@www.potr.org
SUMMARY:SPRING 2025 MEAN GIRLS High School Version Callbacks
DESCRIPTION:
URL:https://www.potr.org/index.php/event/spring-2025-teen-college-callbacks/
LOCATION:St. John’s Evangelical Lutheran Church\, 1675 Coates Avenue\, Holbrook\, 11741\, United States
CATEGORIES:Audition
END:VEVENT
BEGIN:VEVENT
DTSTART;TZID=UTC:20250421T173000
DTEND;TZID=UTC:20250421T210000
DTSTAMP:20260422T095121
CREATED:20240721T164331Z
LAST-MODIFIED:20240810T192327Z
UID:3590-1745256600-1745269200@www.potr.org
SUMMARY:SPRING 2025 MEAN GIRLS High School Version Auditions
DESCRIPTION:
URL:https://www.potr.org/index.php/event/spring-2025-teen-college-auditions/
LOCATION:St. John’s Evangelical Lutheran Church\, 1675 Coates Avenue\, Holbrook\, 11741\, United States
CATEGORIES:Audition
END:VEVENT
BEGIN:VEVENT
DTSTART;TZID=UTC:20250111T190000
DTEND;TZID=UTC:20250111T210000
DTSTAMP:20260422T095121
CREATED:20240721T163120Z
LAST-MODIFIED:20240721T163247Z
UID:3574-1736622000-1736629200@www.potr.org
SUMMARY:WINTER 2025 MAINSTAGE Production
DESCRIPTION:VENUE: TO BE CONFIRMED
URL:https://www.potr.org/index.php/event/winter-2025-mainstage-production-2/
LOCATION:NY
CATEGORIES:Performance
END:VEVENT
BEGIN:VEVENT
DTSTART;TZID=UTC:20250110T190000
DTEND;TZID=UTC:20250110T210000
DTSTAMP:20260422T095121
CREATED:20240721T163039Z
LAST-MODIFIED:20240721T163319Z
UID:3572-1736535600-1736542800@www.potr.org
SUMMARY:WINTER 2025 MAINSTAGE Production
DESCRIPTION:VENUE: TO BE CONFIRMED
URL:https://www.potr.org/index.php/event/winter-2025-mainstage-production/
LOCATION:NY
CATEGORIES:Performance
END:VEVENT
BEGIN:VEVENT
DTSTART;TZID=UTC:20241125T173000
DTEND;TZID=UTC:20241125T210000
DTSTAMP:20260422T095121
CREATED:20240721T163931Z
LAST-MODIFIED:20240721T163931Z
UID:3588-1732555800-1732568400@www.potr.org
SUMMARY:WINTER 2025 MAINSTAGE Auditions
DESCRIPTION:
URL:https://www.potr.org/index.php/event/winter-2025-mainstage-auditions/
LOCATION:St. John’s Evangelical Lutheran Church\, 1675 Coates Avenue\, Holbrook\, 11741\, United States
CATEGORIES:Audition
END:VEVENT
BEGIN:VEVENT
DTSTART;TZID=UTC:20241109T190000
DTEND;TZID=UTC:20241109T210000
DTSTAMP:20260422T095121
CREATED:20240721T162658Z
LAST-MODIFIED:20241021T205353Z
UID:3570-1731178800-1731186000@www.potr.org
SUMMARY:FALL 2024 Performance Disney The Little Mermaid
DESCRIPTION:
URL:https://www.potr.org/index.php/event/fall-2024-performance-disney-the-little-mermaid-2/
LOCATION:Sagamore Middle School\, 57 Division Street\, Holtsville\, NY\, 11742\, United States
CATEGORIES:Performance
END:VEVENT
BEGIN:VEVENT
DTSTART;TZID=UTC:20241108T190000
DTEND;TZID=UTC:20241108T210000
DTSTAMP:20260422T095121
CREATED:20240721T162622Z
LAST-MODIFIED:20241021T205443Z
UID:3568-1731092400-1731099600@www.potr.org
SUMMARY:FALL 2024 Performance Disney The Little Mermaid
DESCRIPTION:
URL:https://www.potr.org/index.php/event/fall-2024-performance-disney-the-little-mermaid/
LOCATION:Sagamore Middle School\, 57 Division Street\, Holtsville\, NY\, 11742\, United States
CATEGORIES:Performance
END:VEVENT
BEGIN:VEVENT
DTSTART;TZID=UTC:20240918T173000
DTEND;TZID=UTC:20240918T210000
DTSTAMP:20260422T095121
CREATED:20240721T162358Z
LAST-MODIFIED:20240721T162358Z
UID:3566-1726680600-1726693200@www.potr.org
SUMMARY:FALL 2024 Disney The Little Mermaid Callbacks
DESCRIPTION:
URL:https://www.potr.org/index.php/event/fall-2024-disney-the-little-mermaid-callbacks/
LOCATION:St. John’s Evangelical Lutheran Church\, 1675 Coates Avenue\, Holbrook\, 11741\, United States
CATEGORIES:Audition
END:VEVENT
BEGIN:VEVENT
DTSTART;TZID=UTC:20240916T173000
DTEND;TZID=UTC:20240916T210000
DTSTAMP:20260422T095121
CREATED:20240721T162218Z
LAST-MODIFIED:20240810T192244Z
UID:3564-1726507800-1726520400@www.potr.org
SUMMARY:FALL 2024 Disney The Little Mermaid Auditions
DESCRIPTION:
URL:https://www.potr.org/index.php/event/fall-2024-disney-the-little-mermaid-auditions/
LOCATION:St. John’s Evangelical Lutheran Church\, 1675 Coates Avenue\, Holbrook\, 11741\, United States
CATEGORIES:Audition
END:VEVENT
BEGIN:VEVENT
DTSTART;TZID=UTC:20240810T190000
DTEND;TZID=UTC:20240810T213000
DTSTAMP:20260422T095121
CREATED:20230718T173112Z
LAST-MODIFIED:20240721T163446Z
UID:3339-1723316400-1723325400@www.potr.org
SUMMARY:SUMMER 2024 TEEN/COLLEGE PERFORMANCE SpongeBob the Musical
DESCRIPTION:
URL:https://www.potr.org/index.php/event/summer-2024-teen-college-performances-3/
LOCATION:Sachem North High School Auditorium\, 212 Smith Road\, Ronkonkoma\, NY\, 11779\, United States
CATEGORIES:Performance
END:VEVENT
BEGIN:VEVENT
DTSTART;TZID=UTC:20240809T190000
DTEND;TZID=UTC:20240809T213000
DTSTAMP:20260422T095122
CREATED:20230718T173001Z
LAST-MODIFIED:20240721T163550Z
UID:3337-1723230000-1723239000@www.potr.org
SUMMARY:SUMMER 2024 TEEN/COLLEGE PERFORMANCE SpongeBob the Musical
DESCRIPTION:
URL:https://www.potr.org/index.php/event/summer-2024-teen-college-performances-2/
LOCATION:Sachem North High School Auditorium\, 212 Smith Road\, Ronkonkoma\, NY\, 11779\, United States
CATEGORIES:Performance
END:VEVENT
END:VCALENDAR