BEGIN:VCALENDAR
VERSION:2.0
PRODID:-//PRODUCTIONS OVER THE RAINBOW - ECPv6.15.20//NONSGML v1.0//EN
CALSCALE:GREGORIAN
METHOD:PUBLISH
X-WR-CALNAME:PRODUCTIONS OVER THE RAINBOW
X-ORIGINAL-URL:https://www.potr.org
X-WR-CALDESC:Events for PRODUCTIONS OVER THE RAINBOW
REFRESH-INTERVAL;VALUE=DURATION:PT1H
X-Robots-Tag:noindex
X-PUBLISHED-TTL:PT1H
BEGIN:VTIMEZONE
TZID:UTC
BEGIN:STANDARD
TZOFFSETFROM:+0000
TZOFFSETTO:+0000
TZNAME:UTC
DTSTART:20250101T000000
END:STANDARD
END:VTIMEZONE
BEGIN:VEVENT
DTSTART;TZID=UTC:20260614T140000
DTEND;TZID=UTC:20260614T170000
DTSTAMP:20260422T091414
CREATED:20260309T012534Z
LAST-MODIFIED:20260309T012534Z
UID:3861-1781445600-1781456400@www.potr.org
SUMMARY:SPRING 2026 TEEN/COLLEGE Performance: A Chorus Line: Teen Edition
DESCRIPTION:
URL:https://www.potr.org/index.php/event/spring-2026-teen-college-performance-a-chorus-line-teen-edition-3/
LOCATION:Stony Brook School – Carson Auditorium\, 1 Chapman Parkway\, Stony Brook\, NY\, 11790\, United States
END:VEVENT
END:VCALENDAR